BEGIN:VCALENDAR
VERSION:2.0
PRODID:-//Corazen - ECPv5.16.3.1//NONSGML v1.0//EN
CALSCALE:GREGORIAN
METHOD:PUBLISH
X-WR-CALNAME:Corazen
X-ORIGINAL-URL:https://corazen.de
X-WR-CALDESC:Veranstaltungen für Corazen
BEGIN:VTIMEZONE
TZID:Europe/Berlin
BEGIN:DAYLIGHT
TZOFFSETFROM:+0100
TZOFFSETTO:+0200
TZNAME:CEST
DTSTART:20170326T010000
END:DAYLIGHT
BEGIN:STANDARD
TZOFFSETFROM:+0200
TZOFFSETTO:+0100
TZNAME:CET
DTSTART:20171029T010000
END:STANDARD
END:VTIMEZONE
BEGIN:VEVENT
DTSTART;TZID=Europe/Berlin:20170718T193000
DTEND;TZID=Europe/Berlin:20170718T210000
DTSTAMP:20260423T120147
CREATED:20170717T143928Z
LAST-MODIFIED:20170717T144040Z
UID:58-1500406200-1500411600@corazen.de
SUMMARY:Yoga für Jedemann
DESCRIPTION:Jeden Dienstag machen wir Yoga
URL:https://corazen.de/event/yoga-fuer-jedemann/
END:VEVENT
END:VCALENDAR